BEGIN:VCALENDAR
VERSION:2.0
PRODID:-//Chicano Eats - ECPv6.15.20//NONSGML v1.0//EN
CALSCALE:GREGORIAN
METHOD:PUBLISH
X-WR-CALNAME:Chicano Eats
X-ORIGINAL-URL:https://chicanoeats.com
X-WR-CALDESC:Events for Chicano Eats
REFRESH-INTERVAL;VALUE=DURATION:PT1H
X-Robots-Tag:noindex
X-PUBLISHED-TTL:PT1H
BEGIN:VTIMEZONE
TZID:America/Los_Angeles
BEGIN:DAYLIGHT
TZOFFSETFROM:-0800
TZOFFSETTO:-0700
TZNAME:PDT
DTSTART:20190310T100000
END:DAYLIGHT
BEGIN:STANDARD
TZOFFSETFROM:-0700
TZOFFSETTO:-0800
TZNAME:PST
DTSTART:20191103T090000
END:STANDARD
BEGIN:DAYLIGHT
TZOFFSETFROM:-0800
TZOFFSETTO:-0700
TZNAME:PDT
DTSTART:20200308T100000
END:DAYLIGHT
BEGIN:STANDARD
TZOFFSETFROM:-0700
TZOFFSETTO:-0800
TZNAME:PST
DTSTART:20201101T090000
END:STANDARD
BEGIN:DAYLIGHT
TZOFFSETFROM:-0800
TZOFFSETTO:-0700
TZNAME:PDT
DTSTART:20210314T100000
END:DAYLIGHT
BEGIN:STANDARD
TZOFFSETFROM:-0700
TZOFFSETTO:-0800
TZNAME:PST
DTSTART:20211107T090000
END:STANDARD
END:VTIMEZONE
BEGIN:VEVENT
DTSTART;TZID=America/Los_Angeles:20201205T143000
DTEND;TZID=America/Los_Angeles:20201205T163000
DTSTAMP:20260424T005204
CREATED:20200924T061349Z
LAST-MODIFIED:20211005T034222Z
UID:5916-1607178600-1607185800@chicanoeats.com
SUMMARY:Virtual Tamales Making Class with Esteban 2:30pm PT/ 5:30pm ET
DESCRIPTION:Learn how to make tamales with Esteban! In this class you’ll be making tamales filled with shredded chicken in a red chile sauce and we’ll be making both the masa dough and filling from scratch! \n  \nTickets are nonrefundable.
URL:https://chicanoeats.com/event/virtual-tamales-making-class-with-esteban/
CATEGORIES:Cooking Class
ATTACH;FMTTYPE=image/jpeg:https://chicanoeats.com/wp-content/uploads/2020/09/4IMG_9322.jpg
LOCATION:https://chicanoeats.com/event/virtual-tamales-making-class-with-esteban/
END:VEVENT
BEGIN:VEVENT
DTSTART;TZID=America/Los_Angeles:20201122T150000
DTEND;TZID=America/Los_Angeles:20201122T163000
DTSTAMP:20260424T005204
CREATED:20201101T002324Z
LAST-MODIFIED:20211005T034322Z
UID:6159-1606057200-1606062600@chicanoeats.com
SUMMARY:Virtual Beef Birria Cooking Class with Esteban 3:00PM PT/ 6:00pm EST
DESCRIPTION:Cook and sip along with Esteban as you cook your way through the Chicano Eats Cookbook! Classes will begin with a cocktail recipe and move into the main dish. Recipes will be provided along with a game plan incase you plan on cooking along with Esteban!  \nThe Beef Birria class will feature the Cuba\, a tropical take on Mexico’s beloved Paloma.  \n  \nTickets are non-refundable.
URL:https://chicanoeats.com/event/virtual-beef-birria-cooking-class-with-esteban-300pm-pt-600pm-est/
CATEGORIES:Cooking Class
ATTACH;FMTTYPE=image/jpeg:https://chicanoeats.com/wp-content/uploads/2020/08/WebBirria-2.jpg
LOCATION:https://chicanoeats.com/event/virtual-beef-birria-cooking-class-with-esteban-300pm-pt-600pm-est/
END:VEVENT
BEGIN:VEVENT
DTSTART;TZID=America/Los_Angeles:20201121T150000
DTEND;TZID=America/Los_Angeles:20201121T163000
DTSTAMP:20260424T005204
CREATED:20200926T054021Z
LAST-MODIFIED:20211005T034451Z
UID:5946-1605970800-1605976200@chicanoeats.com
SUMMARY:Virtual Salsa Making Class with Esteban 3PM PT/ 6pm EST
DESCRIPTION:Cook and sip along with Esteban as you cook your way through the Chicano Eats Cookbook! Classes will begin with a cocktail recipe and move into two different salsas\, a Roasted Chipotle Salsa and a Salsa de Molacajete. Recipes will be provided along with a game plan incase you plan on cooking along with Esteban! \n  \nThe Salsa making class will feature Mango Mojitos! \n  \nTickets are non-refundable.
URL:https://chicanoeats.com/event/virtual-salsa-making-class-with-esteban-3pm-pt-6pm-est/
CATEGORIES:Cooking Class
ATTACH;FMTTYPE=image/jpeg:https://chicanoeats.com/wp-content/uploads/2020/08/Websalsa.jpg
LOCATION:https://chicanoeats.com/event/virtual-salsa-making-class-with-esteban-3pm-pt-6pm-est/
END:VEVENT
BEGIN:VEVENT
DTSTART;TZID=America/Los_Angeles:20201115T140000
DTEND;TZID=America/Los_Angeles:20201115T160000
DTSTAMP:20260424T005204
CREATED:20200926T053046Z
LAST-MODIFIED:20211005T034507Z
UID:5942-1605448800-1605456000@chicanoeats.com
SUMMARY:Virtual Chiles Rellenos Cooking Class with Esteban 2:00pm PT/ 5:00pm ET
DESCRIPTION:Learn how to make cheesy chiles rellenos covered in fluffy egg whites and served in a smoky chipotle sauce with Esteban! \n  \nTickets are non-refundable.
URL:https://chicanoeats.com/event/virtual-chiles-rellenos-cooking-class-with-esteban-200pm-pt-500pm-et/
CATEGORIES:Cooking Class
ATTACH;FMTTYPE=image/jpeg:https://chicanoeats.com/wp-content/uploads/2020/09/IMG_7615.jpg
LOCATION:https://chicanoeats.com/event/virtual-chiles-rellenos-cooking-class-with-esteban-200pm-pt-500pm-et/
END:VEVENT
BEGIN:VEVENT
DTSTART;TZID=America/Los_Angeles:20201031T153000
DTEND;TZID=America/Los_Angeles:20201031T170000
DTSTAMP:20260424T005204
CREATED:20200924T060323Z
LAST-MODIFIED:20200926T051807Z
UID:5912-1604158200-1604163600@chicanoeats.com
SUMMARY:Virtual Beef Birria Cooking Class with Esteban 3:30PM PT/ 6:30pm EST
DESCRIPTION:Cook and sip along with Esteban as you cook your way through the Chicano Eats Cookbook! Classes will begin with a cocktail recipe and move into the main dish. Recipes will be provided along with a game plan incase you plan on cooking along with Esteban! \nThe Beef Birria class will feature the Cuba\, a tropical take on Mexico’s beloved Paloma.  \n  \nTickets are non-refundable.
URL:https://chicanoeats.com/event/virtual-beef-birria-cooking-class-with-esteban-330pm-pt-630pm-est/
CATEGORIES:Cooking Class
ATTACH;FMTTYPE=image/jpeg:https://chicanoeats.com/wp-content/uploads/2020/08/WebBirria-2.jpg
LOCATION:https://chicanoeats.com/event/virtual-beef-birria-cooking-class-with-esteban-330pm-pt-630pm-est/
END:VEVENT
BEGIN:VEVENT
DTSTART;TZID=America/Los_Angeles:20201024T143000
DTEND;TZID=America/Los_Angeles:20201024T163000
DTSTAMP:20260424T005204
CREATED:20200924T055729Z
LAST-MODIFIED:20201005T030053Z
UID:5637-1603549800-1603557000@chicanoeats.com
SUMMARY:Virtual Pozole Verde Cooking Class with Esteban 2:30PM PT/ 5:30pm EST
DESCRIPTION:Cook and sip along with Esteban as you cook your way through the Chicano Eats Cookbook! Classes will begin with a cocktail recipe and move into the main dish. Recipes will be provided along with a game plan incase you plan on cooking along with Esteban! \nIn this class you’ll be learning how to make pozole verde\, a spicy and tangy hominy stew made with roasted tomatillos\, poblano peppers and chicken! This class will take approximately  2 hours. \nTickets are non-refundable.
URL:https://chicanoeats.com/event/virtual-pozole-verde-cooking-class-with-esteban-230pm-pt-530pm-est/
CATEGORIES:Cooking Class
ATTACH;FMTTYPE=image/jpeg:https://chicanoeats.com/wp-content/uploads/2020/09/Final-Pozole-Verde.jpg
LOCATION:https://chicanoeats.com/event/virtual-pozole-verde-cooking-class-with-esteban-230pm-pt-530pm-est/
END:VEVENT
BEGIN:VEVENT
DTSTART;TZID=America/Los_Angeles:20200912T140000
DTEND;TZID=America/Los_Angeles:20200912T160000
DTSTAMP:20260424T005204
CREATED:20200824T231853Z
LAST-MODIFIED:20211005T034735Z
UID:5624-1599919200-1599926400@chicanoeats.com
SUMMARY:Virtual Sopes Cooking Class with Esteban 2:00PM PT/ 5:00pm EST
DESCRIPTION:Cook and sip along with Esteban as you cook your way through the Chicano Eats Cookbook! Classes will begin with a cocktail recipe and move into the main dish. Recipes will be provided along with a game plan incase you plan on cooking along with Esteban! \n  \nIn this class you’ll be learning how to make sopes\, fried masa cakes topped with ground beef\, a tomato sauce\, shredded lettuce cheese\, radish and hot sauce. This class will take approximately  2 hours  making enough  portions for two! \n  \nThe Sopes class will feature a coconut lime margarita. \n  \nTickets are non-refundable.
URL:https://chicanoeats.com/event/virtual-sopes-cooking-class-with-esteban-200pm-pt-500pm-est/
CATEGORIES:Cooking Class
ATTACH;FMTTYPE=image/png:https://chicanoeats.com/wp-content/uploads/2020/08/16.png
LOCATION:https://chicanoeats.com/event/virtual-sopes-cooking-class-with-esteban-200pm-pt-500pm-est/
END:VEVENT
BEGIN:VEVENT
DTSTART;TZID=America/Los_Angeles:20200905T113000
DTEND;TZID=America/Los_Angeles:20200905T130000
DTSTAMP:20260424T005204
CREATED:20200816T195906Z
LAST-MODIFIED:20211005T034812Z
UID:5538-1599305400-1599310800@chicanoeats.com
SUMMARY:Virtual Mole Making Class with Esteban 11:30AM PT/ 2:30pm EST
DESCRIPTION:Cook and sip along with Esteban as you cook your way through the Chicano Eats Cookbook\, in this class you’ll be learning how to make a mole colorado a sweet and savory mole with a fiery orange hue! Classes will begin with a cocktail recipe and move into the main dish. Recipes will be provided along with a game plan incase you plan on cooking along with Esteban! \n  \nThe Mole making class will feature la Mula\, a tropical take on the Moscow Mule.  \n  \nTickets are non-refundable.
URL:https://chicanoeats.com/event/virtual-mole-making-class-with-esteban-1130am-pt-230pm-est/
CATEGORIES:Cooking Class
ATTACH;FMTTYPE=image/jpeg:https://chicanoeats.com/wp-content/uploads/2020/08/MoleColoradito.jpg
LOCATION:https://chicanoeats.com/event/virtual-mole-making-class-with-esteban-1130am-pt-230pm-est/
END:VEVENT
BEGIN:VEVENT
DTSTART;TZID=America/Los_Angeles:20200829T150000
DTEND;TZID=America/Los_Angeles:20200829T160000
DTSTAMP:20260424T005204
CREATED:20200803T051955Z
LAST-MODIFIED:20211005T034854Z
UID:5378-1598713200-1598716800@chicanoeats.com
SUMMARY:Virtual Salsa Making Class with Esteban 3PM PT/ 6pm EST
DESCRIPTION:Cook and sip along with Esteban as you cook your way through the Chicano Eats Cookbook! Classes will begin with a cocktail recipe and move into two different salsas\, a Roasted Chipotle Salsa and a Salsa de Molacajete. Recipes will be provided along with a game plan incase you plan on cooking along with Esteban! \n  \nThe Salsa making class will feature Mango Mojitos! \n  \nTickets are non-refundable.
URL:https://chicanoeats.com/event/salsa-making-class/
CATEGORIES:Cooking Class
ATTACH;FMTTYPE=image/jpeg:https://chicanoeats.com/wp-content/uploads/2020/08/Websalsa.jpg
LOCATION:https://chicanoeats.com/event/salsa-making-class/
END:VEVENT
BEGIN:VEVENT
DTSTART;TZID=America/Los_Angeles:20200822T153000
DTEND;TZID=America/Los_Angeles:20200822T163000
DTSTAMP:20260424T005204
CREATED:20200803T042103Z
LAST-MODIFIED:20200806T014811Z
UID:5359-1598110200-1598113800@chicanoeats.com
SUMMARY:Virtual Beef Birria Cooking Class with Esteban 3:30PM PT/ 6:30pm EST
DESCRIPTION:Cook and sip along with Esteban as you cook your way through the Chicano Eats Cookbook! Classes will begin with a cocktail recipe and move into the main dish. Recipes will be provided along with a game plan incase you plan on cooking along with Esteban! \nThe Beef Birria class will feature the Cuba\, a tropical take on Mexico’s beloved Paloma. 
URL:https://chicanoeats.com/event/live-beef-birria-cooking-class-with-esteban/
CATEGORIES:Cooking Class
ATTACH;FMTTYPE=image/jpeg:https://chicanoeats.com/wp-content/uploads/2020/08/WebBirria-2.jpg
LOCATION:https://chicanoeats.com/event/live-beef-birria-cooking-class-with-esteban/
END:VEVENT
END:VCALENDAR