BEGIN:VCALENDAR
VERSION:2.0
PRODID:-//Chicano Eats - ECPv6.15.20//NONSGML v1.0//EN
CALSCALE:GREGORIAN
METHOD:PUBLISH
X-WR-CALNAME:Chicano Eats
X-ORIGINAL-URL:https://chicanoeats.com
X-WR-CALDESC:Events for Chicano Eats
REFRESH-INTERVAL;VALUE=DURATION:PT1H
X-Robots-Tag:noindex
X-PUBLISHED-TTL:PT1H
BEGIN:VTIMEZONE
TZID:America/Los_Angeles
BEGIN:DAYLIGHT
TZOFFSETFROM:-0800
TZOFFSETTO:-0700
TZNAME:PDT
DTSTART:20190310T100000
END:DAYLIGHT
BEGIN:STANDARD
TZOFFSETFROM:-0700
TZOFFSETTO:-0800
TZNAME:PST
DTSTART:20191103T090000
END:STANDARD
BEGIN:DAYLIGHT
TZOFFSETFROM:-0800
TZOFFSETTO:-0700
TZNAME:PDT
DTSTART:20200308T100000
END:DAYLIGHT
BEGIN:STANDARD
TZOFFSETFROM:-0700
TZOFFSETTO:-0800
TZNAME:PST
DTSTART:20201101T090000
END:STANDARD
BEGIN:DAYLIGHT
TZOFFSETFROM:-0800
TZOFFSETTO:-0700
TZNAME:PDT
DTSTART:20210314T100000
END:DAYLIGHT
BEGIN:STANDARD
TZOFFSETFROM:-0700
TZOFFSETTO:-0800
TZNAME:PST
DTSTART:20211107T090000
END:STANDARD
BEGIN:DAYLIGHT
TZOFFSETFROM:-0800
TZOFFSETTO:-0700
TZNAME:PDT
DTSTART:20220313T100000
END:DAYLIGHT
BEGIN:STANDARD
TZOFFSETFROM:-0700
TZOFFSETTO:-0800
TZNAME:PST
DTSTART:20221106T090000
END:STANDARD
BEGIN:DAYLIGHT
TZOFFSETFROM:-0800
TZOFFSETTO:-0700
TZNAME:PDT
DTSTART:20230312T100000
END:DAYLIGHT
BEGIN:STANDARD
TZOFFSETFROM:-0700
TZOFFSETTO:-0800
TZNAME:PST
DTSTART:20231105T090000
END:STANDARD
END:VTIMEZONE
BEGIN:VEVENT
DTSTART;TZID=America/Los_Angeles:20221106T133000
DTEND;TZID=America/Los_Angeles:20221106T150000
DTSTAMP:20260423T232002
CREATED:20221002T065408Z
LAST-MODIFIED:20221003T052214Z
UID:7644-1667741400-1667746800@chicanoeats.com
SUMMARY:(Chicano Bakes Pre-Order) Virtual Panque de Nuez (Sweet Pecan Loaf) Baking Class 1:30PM PT/ 4:30pm EST
DESCRIPTION:Bake and sip along with Esteban as you bake through the Chicano Bakes Cookbook! In this class\, readers will be baking from the “Mexican Pan Dulce” chapter and will be making Panque de Nuez\, a sweet pecan loaf! \nThis class is exclusive for folks who have pre-ordered Chicano Bakes! Fill out this form for access: https://forms.gle/zdwPDfoBza2qEzPL8
URL:https://chicanoeats.com/event/chicano-bakes-pre-order-panque-de-nuez-sweet-pecan-loaf/
CATEGORIES:Baking Class
LOCATION:https://chicanoeats.com/event/chicano-bakes-pre-order-panque-de-nuez-sweet-pecan-loaf/
END:VEVENT
BEGIN:VEVENT
DTSTART;TZID=America/Los_Angeles:20221105T130000
DTEND;TZID=America/Los_Angeles:20221105T140000
DTSTAMP:20260423T232002
CREATED:20221002T064210Z
LAST-MODIFIED:20221003T055205Z
UID:7638-1667653200-1667656800@chicanoeats.com
SUMMARY:(Chicano Bakes Pre-Order) Virtual Spiced Pumpkin Chocoflan Baking Class 1:00PM PT/ 4:00pm EST
DESCRIPTION:Bake and sip along with Esteban as you bake through the Chicano Bakes Cookbook! In this class\, readers will be baking from the “Cakes” chapter and will be making the spiced pumpkin chocoflan\, a chocoflan comprised of a cream cheese flan layer\, and a spiced pumpkin cake layer. \nThis class is exclusive for folks who have pre-ordered Chicano Bakes! Fill out this form for access: https://forms.gle/zdwPDfoBza2qEzPL8
URL:https://chicanoeats.com/event/chicano-bakes-pre-order-spiced-pumpkin-chocoflan/
CATEGORIES:Baking Class
LOCATION:https://chicanoeats.com/event/chicano-bakes-pre-order-spiced-pumpkin-chocoflan/
END:VEVENT
BEGIN:VEVENT
DTSTART;TZID=America/Los_Angeles:20210116T150000
DTEND;TZID=America/Los_Angeles:20210116T160000
DTSTAMP:20260423T232002
CREATED:20201129T220024Z
LAST-MODIFIED:20210115T193531Z
UID:6222-1610809200-1610812800@chicanoeats.com
SUMMARY:Virtual Classic Caramel Flan Baking Class 3:00pm PST/6:00PM EST
DESCRIPTION:Learn how to bake a classic Caramel Flan with Esteban! \nTickets are non-refundable.
URL:https://chicanoeats.com/event/virtual-classic-caramel-flan-baking-class-300pm-pst-600pm-est/
CATEGORIES:Baking Class
ATTACH;FMTTYPE=image/jpeg:https://chicanoeats.com/wp-content/uploads/2020/08/webfalnn.jpg
LOCATION:https://chicanoeats.com/event/virtual-classic-caramel-flan-baking-class-300pm-pst-600pm-est/
END:VEVENT
BEGIN:VEVENT
DTSTART;TZID=America/Los_Angeles:20200913T160000
DTEND;TZID=America/Los_Angeles:20200913T173000
DTSTAMP:20260423T232002
CREATED:20200825T015417Z
LAST-MODIFIED:20200825T164118Z
UID:5639-1600012800-1600018200@chicanoeats.com
SUMMARY:Virtual Churro Baking Class with Esteban 4:00PM PT/ 7:00pm EST
DESCRIPTION:In this class we’ll be learning how to make churros with a milk chocolate dipping sauce! \n  \nTickets are non-refundable.
URL:https://chicanoeats.com/event/virtual-churro-baking-class-with-esteban-400pm-pt-700pm-est/
CATEGORIES:Baking Class
ATTACH;FMTTYPE=image/png:https://chicanoeats.com/wp-content/uploads/2020/08/Final-Churros.png
LOCATION:https://chicanoeats.com/event/virtual-churro-baking-class-with-esteban-400pm-pt-700pm-est/
END:VEVENT
BEGIN:VEVENT
DTSTART;TZID=America/Los_Angeles:20200830T130000
DTEND;TZID=America/Los_Angeles:20200830T140000
DTSTAMP:20260423T232002
CREATED:20200803T163533Z
LAST-MODIFIED:20200806T014445Z
UID:5388-1598792400-1598796000@chicanoeats.com
SUMMARY:Virtual Caramel Flan Baking Class with Esteban 1PM PT/ 4pm EST
DESCRIPTION:Learn how to make a classic Caramel Flan with Esteban!
URL:https://chicanoeats.com/event/virtual-caramel-flan-making-class/
CATEGORIES:Baking Class
ATTACH;FMTTYPE=image/jpeg:https://chicanoeats.com/wp-content/uploads/2020/08/webfalnn.jpg
LOCATION:https://chicanoeats.com/event/virtual-caramel-flan-making-class/
END:VEVENT
BEGIN:VEVENT
DTSTART;TZID=America/Los_Angeles:20200823T110000
DTEND;TZID=America/Los_Angeles:20200823T120000
DTSTAMP:20260423T232002
CREATED:20200803T044513Z
LAST-MODIFIED:20200806T014708Z
UID:5374-1598180400-1598184000@chicanoeats.com
SUMMARY:Virtual Marranitos (Cochinitos) Pan Dulce Baking Class with Esteban 11AM PT/ 2pm EST
DESCRIPTION:This pan dulce class will teach you how to bake the perfect Marranitos (Cochinitos) a Mexican pig shaped gingerbread cookie!
URL:https://chicanoeats.com/event/marranitos-cochinitos-pan-dulce-baking-class/
CATEGORIES:Baking Class
ATTACH;FMTTYPE=image/jpeg:https://chicanoeats.com/wp-content/uploads/2020/08/webmarr.jpg
LOCATION:https://chicanoeats.com/event/marranitos-cochinitos-pan-dulce-baking-class/
END:VEVENT
END:VCALENDAR